BEGIN:VCALENDAR
VERSION:2.0
PRODID:-//pretix//pretix.eu//
BEGIN:VTIMEZONE
TZID:Europe/Berlin
BEGIN:STANDARD
DTSTART:20001029T040000
RRULE:FREQ=YEARLY;BYDAY=-1SU;BYMONTH=10
TZNAME:CET
TZOFFSETFROM:+0200
TZOFFSETTO:+0100
END:STANDARD
BEGIN:DAYLIGHT
DTSTART:20000326T030000
RRULE:FREQ=YEARLY;BYDAY=-1SU;BYMONTH=3
TZNAME:CEST
TZOFFSETFROM:+0100
TZOFFSETTO:+0200
END:DAYLIGHT
END:VTIMEZONE
BEGIN:VEVENT
UID:pretix-KKB-Waakirchen-BoogieWoogie-0@tickets.kkb-waakirchen.de
DTSTART;TZID=Europe/Berlin:20251107T193000
DTEND;TZID=Europe/Berlin:20251107T203000
DESCRIPTION:Tickets: https://tickets.kkb-waakirchen.de/BoogieWoogie/\nEinla
 ss: 07.11.2025 18:45\nVeranstalter: Kleinkunstbühne Waakirchen e.V.
DTSTAMP:20260420T125346Z
LOCATION:Grundschule Waakirchen -Aula\, Glückaufstraße 14\, 83666 Waakirc
 hen
SUMMARY:„Boogie Woogie“ von Axel  Zwingenberger
END:VEVENT
END:VCALENDAR
